BEGIN:VCALENDAR
PRODID:-//AT Content Types//AT Event//EN
VERSION:2.0
METHOD:PUBLISH
BEGIN:VEVENT
DTSTAMP:20260422T094430Z
CREATED:20171205T070058Z
UID:ATEvent-afcb251b819640668ef353d674bad768
LAST-MODIFIED:20171215T084810Z
SUMMARY:Manchester by the Sea
DTSTART:20180214T183000Z
DTEND:20180227T183000Z
DESCRIPTION:Filmreihe: Hingeschaut!
LOCATION:Spielboden Dornbirn
CATEGORIES:Film
CLASS:PUBLIC
END:VEVENT
END:VCALENDAR
