BEGIN:VCALENDAR
PRODID:-//AT Content Types//AT Event//EN
VERSION:2.0
METHOD:PUBLISH
BEGIN:VEVENT
DTSTAMP:20260421T085621Z
CREATED:20190925T070028Z
UID:ATEvent-d8a0681e214942c4aaf596fa7fe63547
LAST-MODIFIED:20190925T072006Z
SUMMARY:Mädchengruppe 2019
DTSTART:20191014T150000Z
DTEND:20191014T170000Z
DESCRIPTION:Jung\, frech und wunderbar!
LOCATION:Beratungsstelle Kinder und Jugend Unterland
CLASS:PUBLIC
END:VEVENT
END:VCALENDAR
